BEGIN:VCALENDAR
VERSION:2.0
PRODID:-//ExpressionEngine Easy iCalendar plugin//NONSGML v2.0.0//EN
X-WR-TIMEZONE:America/New_York
X-WR-CALNAME:Upcoming Auctions
BEGIN:VEVENT
UID:66187
DTSTAMP:20210731T100000
DTSTART:20210731T100000
DTEND:20210731T103000
SUMMARY:5311 Hemlock Road Quinton VA
LOCATION:{location}
DESCRIPTION:Call for private showing\, this home is extra clean and move-
 in ready!  This newly updated 3 Bedroom / 2 Bath western Ne
 w Kent home on a large .75 acre wooded lot features a large 
 living area\, updated kitchen with granite countertops\, and 
 beautiful new hardwood flooring throughout. On the outside i
 s a great condition 2-level deck\, privacy fencing and outbui
 ldings.  Make plans today to see this ready to enjoy and 
 hard to find property today\, only $125\,000 suggested starti
 ng bid!
URL:https://www.isgettauction.com/auctions/detail/bw66187
SEQUENCE:1
END:VEVENT
END:VCALENDAR