BEGIN:VCALENDAR
VERSION:2.0
PRODID:-//ExpressionEngine Easy iCalendar plugin//NONSGML v2.0.0//EN
X-WR-TIMEZONE:America/New_York
X-WR-CALNAME:Upcoming Auctions
BEGIN:VEVENT
UID:63962
DTSTAMP:20210605T100000
DTSTART:20210605T100000
DTEND:20210605T110000
SUMMARY:5407 Hemlock Road Quinton
LOCATION:5407 Hemlock Road\, Quinton\, VA 23141\, US
DESCRIPTION:This rock-solid all brick home on a beautiful 1.09+- ac corn
 er lot will be sold on Saturday\, June 5th at 10am onsite.  
 Make plans today to  buy this fine property at the price yo
 u bid!  Only $90\,000 suggested starting bid!
URL:https://www.isgettauction.com/auctions/detail/bw63962
SEQUENCE:1
END:VEVENT
END:VCALENDAR