BEGIN:VCALENDAR
VERSION:2.0
PRODID:-//ExpressionEngine Easy iCalendar plugin//NONSGML v2.0.0//EN
X-WR-TIMEZONE:America/New_York
X-WR-CALNAME:Upcoming Auctions
BEGIN:VEVENT
UID:61410
DTSTAMP:20210424T104500
DTSTART:20210424T104500
DTEND:20210424T114500
SUMMARY:9404 Arrowdel Road
LOCATION:2878 Quaker Road\, Quinton\, VA 23141\, US
DESCRIPTION:Isgett Auction Marketing is pleased to offer the rare oppor
 tunity to own this stunning and well-maintained 3-bedroom ho
 me in the highly desireable River Road area of Henrico Count
 y.  
URL:https://www.isgettauction.com/auctions/detail/bw61410
SEQUENCE:1
END:VEVENT
END:VCALENDAR