BEGIN:VCALENDAR
VERSION:2.0
PRODID:-//ExpressionEngine Easy iCalendar plugin//NONSGML v2.0.0//EN
X-WR-TIMEZONE:America/New_York
X-WR-CALNAME:Upcoming Auctions
BEGIN:VEVENT
UID:159611
DTSTAMP:20260421T091000
DTSTART:20260421T091000
DTEND:20260503T180000
SUMMARY:Eagles Landing Auction No. 2
LOCATION:{location}
DESCRIPTION:The Eagles Landing No. 2 Auction features a huge number of h
 ighly collectible items including signed decoys\, vintage fis
 hing reels and lures\, taxidermy mounts\, crocks\, bronze statu
 es\, vintage mason jars & pole insulators\, vintage hand tools
 \, display cabinets\, vintage furniture\, Longaberger Baskets\, 
 beautiful wildlife framed prints and much more.  This sale 
 also features an excellent condition Ricoh Laser Multi-Funct
 ion office printer. Bidding on this sale ends SUNDAY\, MAY 3r
 d\, View and Bid Now!!
URL:https://www.isgettauction.com/auctions/detail/bw159611
SEQUENCE:1
END:VEVENT
END:VCALENDAR