BEGIN:VCALENDAR
VERSION:2.0
PRODID:-//ExpressionEngine Easy iCalendar plugin//NONSGML v2.0.0//EN
X-WR-TIMEZONE:America/New_York
X-WR-CALNAME:Upcoming Auctions
BEGIN:VEVENT
UID:140056
DTSTAMP:20250605T174000
DTSTART:20250605T174000
DTEND:20250605T184000
SUMMARY:12431 Whisana Lane\, Ashland VA
LOCATION:{location}
DESCRIPTION:SELLING ON THURSDAY\, JUNE 5th AT 6PM ONSITE!!  Isgett Aucti
 on Marketing is pleased to offer this Beautiful Hanover Coun
 ty Country Estate on 10+- Acres!  Features a great conditio
 n 3 Bedroom 3 Bath Low Maintenance Exterior Home\, Open Pastu
 re\, Mature Woodlands\, 3 Stall Barn & More!  This outstandin
 g property will be sold by competitive bidding with live ons
 ite and internet bidding available.  Make plans to see this
  outstanding buying opportunity today! Only $300\,000 Openin
 g Bid!! 
URL:https://www.isgettauction.com/auctions/detail/bw140056
SEQUENCE:1
END:VEVENT
END:VCALENDAR